BEGIN:VCALENDAR
VERSION:2.0
PRODID:-//Amura IT - ECPv4.8.2//NONSGML v1.0//EN
CALSCALE:GREGORIAN
METHOD:PUBLISH
X-WR-CALNAME:Amura IT
X-ORIGINAL-URL:https://www.amurait.com
X-WR-CALDESC:Eventos para Amura IT
BEGIN:VEVENT
DTSTART;TZID=America/Port_of_Spain:20210119T000000
DTEND;TZID=America/Port_of_Spain:20210119T235900
DTSTAMP:20260421T154210
CREATED:20210115T102626Z
LAST-MODIFIED:20210303T181845Z
UID:6786-1611014400-1611100740@www.amurait.com
SUMMARY:Tendencias en Datos y BI para el 2021
DESCRIPTION:\n\nPREPÁRESE PARA EL FUTURO: La Gran Conversión Digital\n\n\n\n\n\n\n  \n¿Cómo puede su negocio enfrentarse a un mundo que cambia constantemente? Debe de ser más flexible\, ágil y estar continuamente al tanto de los cambios que se produzcan. Para eso es necesario usar los datos y la analítica a fin de descubrir lo que no es evidente y actuar con mucha antelación para lograr una gran repercusión. \nA fin de cuentas\, para seguir progresando cuando otros no pueden hacerlo\, solo debe aprender a iniciar los procesos adecuados. Asista al webinar Tendencias en datos y BI para 2021: La gran conversión digital\, en el que hablaremos de las 10 tendencias principales\, incluidas las siguientes: \n\nEl nuevo interés en la adopción del SaaS.\nLa transición del autoservicio a la autosuficiencia.\nEl uso masivo de narraciones de datos.\nHemos incluido un debate adicional de preguntas y respuestas con preguntas de nuestros espectadores y\, además\, podrá saltar directamente al contenido que más le interese.\n\nConozca las previsiones para estar preparado. \n¡Inscríbete! \n\n\n\n\n
URL:https://www.amurait.com/event/tendencias-datos-2021/
LOCATION:On line\, Spain
END:VEVENT
END:VCALENDAR