BEGIN:VCALENDAR
VERSION:2.0
PRODID:-//Amura IT - ECPv4.8.2//NONSGML v1.0//EN
CALSCALE:GREGORIAN
METHOD:PUBLISH
X-WR-CALNAME:Amura IT
X-ORIGINAL-URL:https://www.amurait.com
X-WR-CALDESC:Eventos para Amura IT
BEGIN:VEVENT
DTSTART;TZID=America/Port_of_Spain:20210204T000000
DTEND;TZID=America/Port_of_Spain:20210204T235900
DTSTAMP:20260421T140100
CREATED:20210115T111957Z
LAST-MODIFIED:20210303T181754Z
UID:6797-1612396800-1612483140@www.amurait.com
SUMMARY:Impacto del negocio al adoptar una cultura de datos
DESCRIPTION:\n\n\n\n\n\n\n\nEn la era digital\, el aprovechamiento de los datos puede marcar la diferencia entre estar un paso adelante o un paso atrás de la competencia. En este seminario web\, Chandana Gopal de IDC hará la presentación previa de un estudio reciente que encargó Tableau para comprender hasta qué punto las organizaciones que adoptan una cultura de datos marcaron la diferencia en los resultados de sus negocios. \nDurante el seminario web\, analizaremos los resultados que incluyen: \n\nValores y ROI de las inversiones en una cultura de datos.\nCaracterísticas de una cultura de datos que tiene el mayor impacto en las métricas de rendimiento de los negocios.\nTendencias y comportamientos regionales que diferencian a las organizaciones que lideran con datos.\n\n\nVer webinar bajo demanda \n\n\n\n\n\n
URL:https://www.amurait.com/event/cultura-datos-organizaciones/
LOCATION:On line\, Spain
END:VEVENT
END:VCALENDAR